BEGIN:VCALENDAR
VERSION:2.0
PRODID:-//eventon.com NONSGML v1.0//EN
BEGIN:VEVENT
UID:69e8f95c730f8
DTSTAMP:20260422T163748
DTSTART:20230418T110000Z
DTEND:20230418T123000Z
LOCATION:
SUMMARY:Joint Webinar with Mazars: CSRD: the rules\,  their impacts\,  and the challenges they raise for companies
DESCRIPTION: As the Corporate Sustainability Reporting Directive (CSRD) came into force on 5 January 2023\,  ecoDa and Mazars\,  are launching a series of two webinars to enlighten board members about the new requirements and responsibilities implied by this new directive. Intending to bring sustainability reporting and financial reporting on an equal[..]
END:VEVENT
END:VCALENDAR