BEGIN:VCALENDAR
VERSION:2.0
PRODID:-//eventon.com NONSGML v1.0//EN
BEGIN:VEVENT
UID:69e91210995d0
DTSTAMP:20260422T182312
DTSTART:20221010T170000Z
DTEND:20221010T180000Z
LOCATION:
SUMMARY:Webinar series: Corporate Governance: A booster for innovation?
DESCRIPTION: Promoting a more standardised and global approach of governance practices is it the right way to support innovation in European companies? How companies can have a different development path if regulators and investors are overly focusing on enforcing hard regulations and standard practices? With the following speakers: Chris Hodge Michael[..]
END:VEVENT
END:VCALENDAR