BEGIN:VCALENDAR
VERSION:2.0
PRODID:-//eventon.com NONSGML v1.0//EN
BEGIN:VEVENT
UID:69e9121815993
DTSTAMP:20260422T182320
DTSTART:20220614T180000Z
DTEND:20220614T200000Z
LOCATION:
SUMMARY:Joint ecoDa/Chapter Zero Brussels Event on the EU Green Deal
DESCRIPTION: On the 14th of June (from 6.00 to 8.00 pm CET in Brussels)\,  ecoDa and Chapter Zero Brussels invite you to a discussion between policy makers and European board members to discuss the EU Green Deal\,  where do we stand and how boards can better grasp and act upon it. After a first exchange with[..]
END:VEVENT
END:VCALENDAR