BEGIN:VCALENDAR
VERSION:2.0
PRODID:-//eventon.com NONSGML v1.0//EN
BEGIN:VEVENT
UID:69e8f9783ae53
DTSTAMP:20260422T163816
DTSTART:20220405T110000Z
DTEND:20220405T235000Z
LOCATION:
SUMMARY:ecoDa and Mazar joint event : Sustainability - The impacts of Taxonomy on bank loans and SMEs
DESCRIPTION: The pressure on European companies is accelerating to integrate the ESG dimension into their strategy and business models. At the same time\,  banks are also more and more required to deliver green\,  sustainable and taxonomy-aligned loans. These various pressures may result in SMEs suffering from a financing shortfall\,  because of[..]
END:VEVENT
END:VCALENDAR