BEGIN:VCALENDAR
VERSION:2.0
PRODID:-//eventon.com NONSGML v1.0//EN
BEGIN:VEVENT
UID:69e9121bd6898
DTSTAMP:20260422T182323
DTSTART:20211119T100000Z
DTEND:20211119T235000Z
LOCATION:
SUMMARY:ecoDa and Mazar joint event : Sustainability - Action needed on the defining issue for SMEs across Europe
DESCRIPTION: Sustainability is at the heart of corporate governance in Europe\,  but little guidance exists on how to overcome the marketing or tick-box approach to truly embed ESG into business models. Sustainability is no longer a concern just for large companies. All companies including SMEs will be greatly impacted\,  whether through[..]
END:VEVENT
END:VCALENDAR