BEGIN:VCALENDAR
VERSION:2.0
PRODID:-//eventon.com NONSGML v1.0//EN
BEGIN:VEVENT
UID:69e8f952ad8b2
DTSTAMP:20260422T163738
DTSTART:20210928T170000Z
DTEND:20210928T183000Z
LOCATION:
SUMMARY:Underpinning entrepreneurship and resilience: Key governance challenges for unlisted companies
DESCRIPTION: As part of the European SME Week\,  ecoDa is delighted to organize\,  under the patronage of DG GROW (European Commission) an event following the publication of its updated Corporate Governance Guidance and Principles for Unlisted Companies in Europe. &nbsp; Corporate Governance is an increasing issue for unlisted companies as they[..]
END:VEVENT
END:VCALENDAR