BEGIN:VCALENDAR
VERSION:2.0
PRODID:-//eventon.com NONSGML v1.0//EN
BEGIN:VEVENT
UID:69e8f97c2c2c7
DTSTAMP:20260422T163820
DTSTART:20210705T150000Z
DTEND:20210705T161500Z
LOCATION:
SUMMARY:ecoDa\,  AIG Joint Webinar - "The new normal: What kind of risk management for business travels?"
DESCRIPTION: The July 5th Webinar will have a look at the risk management in the context of business travels. To analyse this thematic\,  we will address some underlying questions such as : What should companies' strategy be in terms of covering these specific risks\,  both in terms of risk management and[..]
END:VEVENT
END:VCALENDAR