BEGIN:VCALENDAR
VERSION:2.0
PRODID:-//eventon.com NONSGML v1.0//EN
BEGIN:VEVENT
UID:69e8f963cb96f
DTSTAMP:20260422T163755
DTSTART:20210609T160000Z
DTEND:20210609T170000Z
LOCATION:
SUMMARY:ecoDa\,  PwC Joint Event - "How to approach tax governance as a strategic issue? A discussion for board members"
DESCRIPTION: The June 9 Webinar will focus on the different tax governance aspects for directors and the need to make it a strategic issue in the board rooms. In order to raise awareness\,  ecoDa has brought together leading experts to discuss and to guide directors on this essential topic. More information[..]
END:VEVENT
END:VCALENDAR