BEGIN:VCALENDAR
VERSION:2.0
PRODID:-//eventon.com NONSGML v1.0//EN
BEGIN:VEVENT
UID:69e8f9604605c
DTSTAMP:20260422T163752
DTSTART:20210419T110000Z
DTEND:20210419T120000Z
LOCATION:
SUMMARY:ecoDa\,  FERMA\,  ECIIA Joint Event - The impact of the Covid on the three lines
DESCRIPTION: The COVID-19 global health crisis has had an unprecedented impact on business and society across the globe. ecoDa\,  FERMA and ECIIA have carried out extensive international surveys to find out the impact of the Covid crisis on their respective professions and to help them navigate the challenges. If this true[..]
END:VEVENT
END:VCALENDAR