BEGIN:VCALENDAR
VERSION:2.0
PRODID:-//eventon.com NONSGML v1.0//EN
BEGIN:VEVENT
UID:69e8f961cf5c1
DTSTAMP:20260422T163753
DTSTART:20201015T110000Z
DTEND:20201015T120000Z
LOCATION:
SUMMARY:Joint Webinar with Crowell & Moring - "Ensuring effective whistleblowing: How board members are dealing with this new topic? "
DESCRIPTION: ecoDa and Crowell & Moring are pleased to invite your to this joint-webinar examining the new EU directive on whistleblowing\,  its legal implications as well as the resulting challenges. Our panel of experts will provide attendees with concrete advice and inputs from both a board perspective and a legal stand[..]
END:VEVENT
END:VCALENDAR