BEGIN:VCALENDAR
VERSION:2.0
PRODID:-//eventon.com NONSGML v1.0//EN
BEGIN:VEVENT
UID:69e8f995e05c0
DTSTAMP:20260422T163845
DTSTART:20200611T110000Z
DTEND:20200611T121500Z
LOCATION:
SUMMARY:Webinar series - Has the COVID-19 crisis already set the direction for future supply chains – to be more local and less depending?  Is this the beginning of deglobalization as a strategy?
DESCRIPTION: Global value chains have been best practice for many years. This counts also for professional services where people have been travelling the World\,  to advice\,  educate and manage. It went into a full stop when confronted with COVID-19. We need to keep trust in supply chains in that context? How[..]
END:VEVENT
END:VCALENDAR