BEGIN:VCALENDAR
VERSION:2.0
PRODID:-//eventon.com NONSGML v1.0//EN
BEGIN:VEVENT
UID:69e8f97fde713
DTSTAMP:20260422T163823
DTSTART:20200602T110000Z
DTEND:20200602T120000Z
LOCATION:
SUMMARY:Webinar series - How ethics can remain a driving force while priorities have shifted?
DESCRIPTION: Certain observers believe that the Covid crisis could help to put values above valuations. Value creation could be driven by the objective of increasing human well-being while preserving the environment rather than on growth indicators. Is this an utopia? Will the current crisis close the gap between what markets value[..]
END:VEVENT
END:VCALENDAR