BEGIN:VCALENDAR
VERSION:2.0
PRODID:-//eventon.com NONSGML v1.0//EN
BEGIN:VEVENT
UID:69e8f970aa997
DTSTAMP:20260422T163808
DTSTART:20200514T110000Z
DTEND:20200514T120000Z
LOCATION:
SUMMARY:Continuing Professional Development - Webinar for ecoDa's alumni:  Volkswagen Dieselgate case
DESCRIPTION: Watch the webinar here The purpose of this webinar is to provide you with Continuous Personal Development and to highlight what are the main take-aways from the Volkswagen Diesel-Gate Case that can be useful from a board member's perspective. Despite its formidable reputation\,  Volkswagen was accused of “cheating the system” and allowing diesel emissions that deteriorated the environment[..]
END:VEVENT
END:VCALENDAR