BEGIN:VCALENDAR
VERSION:2.0
PRODID:-//eventon.com NONSGML v1.0//EN
BEGIN:VEVENT
UID:69e8f94a40b5d
DTSTAMP:20260422T163730
DTSTART:20201022T083000Z
DTEND:20201023T183000Z
LOCATION:
SUMMARY:2 Days of Professional Development for European Directors
DESCRIPTION: 
END:VEVENT
END:VCALENDAR