BEGIN:VCALENDAR
VERSION:2.0
PRODID:-//eventon.com NONSGML v1.0//EN
BEGIN:VEVENT
UID:69e929a6a3ff1
DTSTAMP:20260422T200350
DTSTART:20080401T000000Z
DTEND:20080401T235900Z
LOCATION:
SUMMARY:ecoDa's Conference: Private Equity and Corporate Governance
DESCRIPTION: ecoDa's Conference: Private Equity and Corporate Governance
END:VEVENT
END:VCALENDAR