BEGIN:VCALENDAR
VERSION:2.0
PRODID:-//eventon.com NONSGML v1.0//EN
BEGIN:VEVENT
UID:69e911cf9c4a0
DTSTAMP:20260422T182207
DTSTART:20171025T000000Z
DTEND:20171025T235900Z
LOCATION:
SUMMARY:Report - ecoDa/EBF Joint conference " Boards’ efficiency and fit & proper rules in financial organizations"
DESCRIPTION: Report - ecoDa/EBF Joint conference " Boards’ efficiency and fit & proper rules in financial organizations"
END:VEVENT
END:VCALENDAR