BEGIN:VCALENDAR
VERSION:2.0
PRODID:-//eventon.com NONSGML v1.0//EN
BEGIN:VEVENT
UID:69e8f94f2cd3b
DTSTAMP:20260422T163735
DTSTART:20170314T000000Z
DTEND:20170314T235900Z
LOCATION:
SUMMARY:Report - Dinner discussion "Building trust in boards"
DESCRIPTION: Report - Dinner discussion "Building trust in boards"
END:VEVENT
END:VCALENDAR