BEGIN:VCALENDAR
VERSION:2.0
PRODID:-//eventon.com NONSGML v1.0//EN
BEGIN:VEVENT
UID:69e910ecdf2e6
DTSTAMP:20260422T181820
DTSTART:20150615T000000Z
DTEND:20150615T235900Z
LOCATION:
SUMMARY:Beyond the old boys’ network
DESCRIPTION: Beyond the old boys’ network
END:VEVENT
END:VCALENDAR