BEGIN:VCALENDAR
VERSION:2.0
PRODID:-//eventon.com NONSGML v1.0//EN
BEGIN:VEVENT
UID:69e8f968ceb3f
DTSTAMP:20260422T163800
DTSTART:20150422T000000Z
DTEND:20150422T235900Z
LOCATION:
SUMMARY:Report - ecoDa 10th anniversary 22 April 2015
DESCRIPTION: Report - ecoDa 10th anniversary 22 April 2015
END:VEVENT
END:VCALENDAR