BEGIN:VCALENDAR
VERSION:2.0
PRODID:-//eventon.com NONSGML v1.0//EN
BEGIN:VEVENT
UID:69e911d3092a8
DTSTAMP:20260422T182211
DTSTART:20140429T000000Z
DTEND:20140429T235900Z
LOCATION:
SUMMARY:Report - THE BOARD SELECTION PROCESS: ASSEMBLING THE RIGHT PIECES FOR A DYNAMIC\,  EFFECTIVE AND BALANCED BOARD
DESCRIPTION: Report - THE BOARD SELECTION PROCESS: ASSEMBLING THE RIGHT PIECES FOR A DYNAMIC\,  EFFECTIVE AND BALANCED BOARD
END:VEVENT
END:VCALENDAR