BEGIN:VCALENDAR
VERSION:2.0
PRODID:-//eventon.com NONSGML v1.0//EN
BEGIN:VEVENT
UID:69e8f9535272f
DTSTAMP:20260422T163739
DTSTART:20140314T000000Z
DTEND:20140314T235900Z
LOCATION:
SUMMARY:Report - GOVERNANCE FOR FAMILY BUSINESSES: LEVERAGING SUSTAINABLE GROWTH PERSPECTIVES
DESCRIPTION: Report
END:VEVENT
END:VCALENDAR