BEGIN:VCALENDAR
VERSION:2.0
PRODID:-//eventon.com NONSGML v1.0//EN
BEGIN:VEVENT
UID:69e8f94a099b2
DTSTAMP:20260422T163730
DTSTART:20130702T000000Z
DTEND:20130702T235900Z
LOCATION:
SUMMARY:Report - A Review of the Ethical Aspects of Corporate Governance Regulation and Guidance in the EU
DESCRIPTION: Report - A Review of the Ethical Aspects of Corporate Governance Regulation and Guidance in the EU
END:VEVENT
END:VCALENDAR