BEGIN:VCALENDAR
VERSION:2.0
PRODID:-//eventon.com NONSGML v1.0//EN
BEGIN:VEVENT
UID:69e8f9562284d
DTSTAMP:20260422T163742
DTSTART:20090318T103000Z
DTEND:20090318T235000Z
LOCATION:
SUMMARY:Report - ecoDa's Conference: Roundtable discussion on Audit Committees
DESCRIPTION: Report - ecoDa's Conference: Roundtable discussion on Audit Committees
END:VEVENT
END:VCALENDAR