BEGIN:VCALENDAR
VERSION:2.0
PRODID:-//eventon.com NONSGML v1.0//EN
BEGIN:VEVENT
UID:69e91201cc84d
DTSTAMP:20260422T182257
DTSTART:20070417T000000Z
DTEND:20070417T235900Z
LOCATION:
SUMMARY:Report - ecoDa's Conference: CSR\,  What's in it for Directors?
DESCRIPTION: Report - ecoDa's Conference: CSR\,  What's in it for Directors?
END:VEVENT
END:VCALENDAR